Package: MethTargetedNGS Version: 1.32.0 Command: F:\biocbuild\bbs-3.17-bioc\R\bin\R.exe CMD check --no-multiarch --install=check:MethTargetedNGS.install-out.txt --library=F:\biocbuild\bbs-3.17-bioc\R\library --no-vignettes --timings MethTargetedNGS_1.32.0.tar.gz StartedAt: 2023-10-16 03:56:58 -0400 (Mon, 16 Oct 2023) EndedAt: 2023-10-16 03:58:32 -0400 (Mon, 16 Oct 2023) EllapsedTime: 93.5 seconds RetCode: 0 Status: OK CheckDir: MethTargetedNGS.Rcheck Warnings: 0