Package: MethTargetedNGS Version: 1.32.0 Command: rm -rf MethTargetedNGS.buildbin-libdir && mkdir MethTargetedNGS.buildbin-libdir && F:\biocbuild\bbs-3.17-bioc\R\bin\R.exe CMD INSTALL --build --library=MethTargetedNGS.buildbin-libdir MethTargetedNGS_1.32.0.tar.gz StartedAt: 2023-10-16 09:03:55 -0400 (Mon, 16 Oct 2023) EndedAt: 2023-10-16 09:04:10 -0400 (Mon, 16 Oct 2023) EllapsedTime: 15.1 seconds RetCode: 0 Status: OK PackageFile: MethTargetedNGS_1.32.0.zip PackageFileSize: 174.1 KiB