Package: MethTargetedNGS Version: 1.32.0 Command: rm -rf MethTargetedNGS.buildbin-libdir && mkdir MethTargetedNGS.buildbin-libdir && /Users/biocbuild/BBS/utils/build-universal.sh MethTargetedNGS_1.32.0.tar.gz /Library/Frameworks/R.framework/Resources/bin/R MethTargetedNGS.buildbin-libdir StartedAt: 2023-10-16 09:42:24 -0400 (Mon, 16 Oct 2023) EndedAt: 2023-10-16 09:43:08 -0400 (Mon, 16 Oct 2023) EllapsedTime: 43.6 seconds RetCode: 0 Status: OK PackageFile: MethTargetedNGS_1.32.0.tgz PackageFileSize: 321.8 KiB