Package: MethReg Version: 1.10.2 Command: F:\biocbuild\bbs-3.17-bioc\R\bin\R.exe CMD INSTALL MethReg StartedAt: 2023-10-15 17:05:33 -0400 (Sun, 15 Oct 2023) EndedAt: 2023-10-15 17:06:24 -0400 (Sun, 15 Oct 2023) EllapsedTime: 51.4 seconds RetCode: 0 Status: OK