Package: MethReg Version: 1.10.2 Command: F:\biocbuild\bbs-3.17-bioc\R\bin\R.exe CMD check --no-multiarch --install=check:MethReg.install-out.txt --library=F:\biocbuild\bbs-3.17-bioc\R\library --no-vignettes --timings MethReg_1.10.2.tar.gz StartedAt: 2023-10-16 03:56:42 -0400 (Mon, 16 Oct 2023) EndedAt: 2023-10-16 04:03:19 -0400 (Mon, 16 Oct 2023) EllapsedTime: 396.6 seconds RetCode: 0 Status: WARNINGS CheckDir: MethReg.Rcheck Warnings: 1