Package: MethReg Version: 1.10.2 Command: chmod a+r MethReg -R && F:\biocbuild\bbs-3.17-bioc\R\bin\R.exe CMD build --keep-empty-dirs --no-resave-data MethReg StartedAt: 2023-10-15 20:19:56 -0400 (Sun, 15 Oct 2023) EndedAt: 2023-10-15 20:24:31 -0400 (Sun, 15 Oct 2023) EllapsedTime: 275.3 seconds RetCode: 0 Status: OK PackageFile: MethReg_1.10.2.tar.gz PackageFileSize: 5.028 MiB