Package: MethReg Version: 1.10.2 Command: /home/biocbuild/bbs-3.17-bioc/R/bin/R CMD check --install=check:MethReg.install-out.txt --library=/home/biocbuild/bbs-3.17-bioc/R/site-library --timings MethReg_1.10.2.tar.gz StartedAt: 2023-10-15 22:40:58 -0400 (Sun, 15 Oct 2023) EndedAt: 2023-10-15 22:50:38 -0400 (Sun, 15 Oct 2023) EllapsedTime: 580.3 seconds RetCode: 0 Status: WARNINGS CheckDir: MethReg.Rcheck Warnings: 1