Package: MethReg Version: 1.10.2 Command: /home/biocbuild/bbs-3.17-bioc/R/bin/R CMD build --keep-empty-dirs --no-resave-data MethReg StartedAt: 2023-10-15 17:23:08 -0400 (Sun, 15 Oct 2023) EndedAt: 2023-10-15 17:27:25 -0400 (Sun, 15 Oct 2023) EllapsedTime: 256.4 seconds RetCode: 0 Status: OK PackageFile: MethReg_1.10.2.tar.gz PackageFileSize: 5.131 MiB