Package: MethReg Version: 1.10.2 Command: /Library/Frameworks/R.framework/Resources/bin/R CMD build --keep-empty-dirs --no-resave-data MethReg StartedAt: 2023-10-15 19:23:47 -0400 (Sun, 15 Oct 2023) EndedAt: 2023-10-15 19:33:50 -0400 (Sun, 15 Oct 2023) EllapsedTime: 603.7 seconds RetCode: 0 Status: OK PackageFile: MethReg_1.10.2.tar.gz PackageFileSize: 5.175 MiB