Package: MethReg Version: 1.10.2 Command: rm -rf MethReg.buildbin-libdir && mkdir MethReg.buildbin-libdir && /Users/biocbuild/BBS/utils/build-universal.sh MethReg_1.10.2.tar.gz /Library/Frameworks/R.framework/Resources/bin/R MethReg.buildbin-libdir StartedAt: 2023-10-16 09:42:12 -0400 (Mon, 16 Oct 2023) EndedAt: 2023-10-16 09:44:14 -0400 (Mon, 16 Oct 2023) EllapsedTime: 122.4 seconds RetCode: 0 Status: OK PackageFile: MethReg_1.10.2.tgz PackageFileSize: 4.301 MiB