Package: MetaboSignal Version: 1.30.3 Command: chmod a+r MetaboSignal -R && F:\biocbuild\bbs-3.17-bioc\R\bin\R.exe CMD build --keep-empty-dirs --no-resave-data MetaboSignal StartedAt: 2023-10-15 20:16:38 -0400 (Sun, 15 Oct 2023) EndedAt: 2023-10-15 20:18:28 -0400 (Sun, 15 Oct 2023) EllapsedTime: 109.7 seconds RetCode: 0 Status: OK PackageFile: MetaboSignal_1.30.3.tar.gz PackageFileSize: 2.089 MiB