Package: MetaboSignal Version: 1.30.3 Command: rm -rf MetaboSignal.buildbin-libdir && mkdir MetaboSignal.buildbin-libdir && F:\biocbuild\bbs-3.17-bioc\R\bin\R.exe CMD INSTALL --build --library=MetaboSignal.buildbin-libdir MetaboSignal_1.30.3.tar.gz StartedAt: 2023-10-16 09:03:19 -0400 (Mon, 16 Oct 2023) EndedAt: 2023-10-16 09:04:27 -0400 (Mon, 16 Oct 2023) EllapsedTime: 68.3 seconds RetCode: 0 Status: OK PackageFile: MetaboSignal_1.30.3.zip PackageFileSize: 2.672 MiB