Package: MetaboSignal Version: 1.30.3 Command: /home/biocbuild/bbs-3.17-bioc/R/bin/R CMD INSTALL MetaboSignal StartedAt: 2023-10-15 15:49:23 -0400 (Sun, 15 Oct 2023) EndedAt: 2023-10-15 15:50:20 -0400 (Sun, 15 Oct 2023) EllapsedTime: 57.2 seconds RetCode: 0 Status: OK