Package: MetaboSignal Version: 1.30.3 Command: /Library/Frameworks/R.framework/Resources/bin/R CMD build --keep-empty-dirs --no-resave-data MetaboSignal StartedAt: 2023-10-15 19:20:34 -0400 (Sun, 15 Oct 2023) EndedAt: 2023-10-15 19:24:22 -0400 (Sun, 15 Oct 2023) EllapsedTime: 227.7 seconds RetCode: 0 Status: OK PackageFile: MetaboSignal_1.30.3.tar.gz PackageFileSize: 2.089 MiB