Package: MetaboSignal Version: 1.30.3 Command: rm -rf MetaboSignal.buildbin-libdir && mkdir MetaboSignal.buildbin-libdir && /Users/biocbuild/BBS/utils/build-universal.sh MetaboSignal_1.30.3.tar.gz /Library/Frameworks/R.framework/Resources/bin/R MetaboSignal.buildbin-libdir StartedAt: 2023-10-16 09:41:37 -0400 (Mon, 16 Oct 2023) EndedAt: 2023-10-16 09:44:45 -0400 (Mon, 16 Oct 2023) EllapsedTime: 188.2 seconds RetCode: 0 Status: OK PackageFile: MetaboSignal_1.30.3.tgz PackageFileSize: 2.663 MiB