Package: MetaboCoreUtils Version: 1.8.0 Command: /Library/Frameworks/R.framework/Resources/bin/R CMD check --install=check:MetaboCoreUtils.install-out.txt --library=/Library/Frameworks/R.framework/Resources/library --no-vignettes --timings MetaboCoreUtils_1.8.0.tar.gz StartedAt: 2023-10-16 03:38:18 -0400 (Mon, 16 Oct 2023) EndedAt: 2023-10-16 03:40:03 -0400 (Mon, 16 Oct 2023) EllapsedTime: 105.4 seconds RetCode: 0 Status: OK CheckDir: MetaboCoreUtils.Rcheck Warnings: 0