Package: MetaboCoreUtils Version: 1.8.0 Command: rm -rf MetaboCoreUtils.buildbin-libdir && mkdir MetaboCoreUtils.buildbin-libdir && /Users/biocbuild/BBS/utils/build-universal.sh MetaboCoreUtils_1.8.0.tar.gz /Library/Frameworks/R.framework/Resources/bin/R MetaboCoreUtils.buildbin-libdir StartedAt: 2023-10-16 09:41:32 -0400 (Mon, 16 Oct 2023) EndedAt: 2023-10-16 09:41:50 -0400 (Mon, 16 Oct 2023) EllapsedTime: 18.0 seconds RetCode: 0 Status: OK PackageFile: MetaboCoreUtils_1.8.0.tgz PackageFileSize: 493.4 KiB