git_url: https://git.bioconductor.org/packages/MetaboCoreUtils git_branch: RELEASE_3_17 git_last_commit: 807b21b git_last_commit_date: 2023-04-25 11:26:30 -0400 (Tue, 25 Apr 2023) Package: MetaboCoreUtils Version: 1.8.0 Maintainer: Johannes Rainer MaintainerEmail: Johannes.Rainer at eurac.edu