Package: MetaboAnnotation Version: 1.4.3 Command: F:\biocbuild\bbs-3.17-bioc\R\bin\R.exe CMD check --no-multiarch --install=check:MetaboAnnotation.install-out.txt --library=F:\biocbuild\bbs-3.17-bioc\R\library --no-vignettes --timings MetaboAnnotation_1.4.3.tar.gz StartedAt: 2023-10-16 03:49:37 -0400 (Mon, 16 Oct 2023) EndedAt: 2023-10-16 03:54:51 -0400 (Mon, 16 Oct 2023) EllapsedTime: 314.0 seconds RetCode: 0 Status: OK CheckDir: MetaboAnnotation.Rcheck Warnings: 0