Package: MetaboAnnotation Version: 1.4.3 Command: rm -rf MetaboAnnotation.buildbin-libdir && mkdir MetaboAnnotation.buildbin-libdir && F:\biocbuild\bbs-3.17-bioc\R\bin\R.exe CMD INSTALL --build --library=MetaboAnnotation.buildbin-libdir MetaboAnnotation_1.4.3.tar.gz StartedAt: 2023-10-16 09:03:11 -0400 (Mon, 16 Oct 2023) EndedAt: 2023-10-16 09:03:59 -0400 (Mon, 16 Oct 2023) EllapsedTime: 48.1 seconds RetCode: 0 Status: OK PackageFile: MetaboAnnotation_1.4.3.zip PackageFileSize: 1.618 MiB