Package: MetaboAnnotation Version: 1.4.3 Command: /home/biocbuild/bbs-3.17-bioc/R/bin/R CMD check --install=check:MetaboAnnotation.install-out.txt --library=/home/biocbuild/bbs-3.17-bioc/R/site-library --timings MetaboAnnotation_1.4.3.tar.gz StartedAt: 2023-10-15 22:37:02 -0400 (Sun, 15 Oct 2023) EndedAt: 2023-10-15 22:42:48 -0400 (Sun, 15 Oct 2023) EllapsedTime: 346.2 seconds RetCode: 0 Status: OK CheckDir: MetaboAnnotation.Rcheck Warnings: 0