Package: MetaboAnnotation Version: 1.4.3 Command: /Library/Frameworks/R.framework/Resources/bin/R CMD INSTALL MetaboAnnotation StartedAt: 2023-10-15 16:34:42 -0400 (Sun, 15 Oct 2023) EndedAt: 2023-10-15 16:36:15 -0400 (Sun, 15 Oct 2023) EllapsedTime: 92.6 seconds RetCode: 0 Status: OK