Package: Metab Version: 1.34.0 Command: F:\biocbuild\bbs-3.17-bioc\R\bin\R.exe CMD INSTALL Metab StartedAt: 2023-10-15 16:45:43 -0400 (Sun, 15 Oct 2023) EndedAt: 2023-10-15 16:46:23 -0400 (Sun, 15 Oct 2023) EllapsedTime: 40.6 seconds RetCode: 0 Status: OK