Package: Metab Version: 1.33.0 Command: F:\biocbuild\bbs-3.17-bioc\R\bin\R.exe CMD check --no-multiarch --install=check:Metab.install-out.txt --library=F:\biocbuild\bbs-3.17-bioc\R\library --no-vignettes --timings Metab_1.33.0.tar.gz StartedAt: 2023-03-16 03:17:49 -0400 (Thu, 16 Mar 2023) EndedAt: 2023-03-16 03:21:30 -0400 (Thu, 16 Mar 2023) EllapsedTime: 220.5 seconds RetCode: 0 Status: OK CheckDir: Metab.Rcheck Warnings: 0