Package: Metab Version: 1.33.0 Command: rm -rf Metab.buildbin-libdir && mkdir Metab.buildbin-libdir && F:\biocbuild\bbs-3.17-bioc\R\bin\R.exe CMD INSTALL --build --library=Metab.buildbin-libdir Metab_1.33.0.tar.gz StartedAt: 2023-03-16 08:30:28 -0400 (Thu, 16 Mar 2023) EndedAt: 2023-03-16 08:31:15 -0400 (Thu, 16 Mar 2023) EllapsedTime: 47.3 seconds RetCode: 0 Status: OK PackageFile: Metab_1.33.0.zip PackageFileSize: 3.249 MiB