Package: Metab Version: 1.34.0 Command: /home/biocbuild/bbs-3.17-bioc/R/bin/R CMD INSTALL Metab StartedAt: 2023-10-15 15:39:17 -0400 (Sun, 15 Oct 2023) EndedAt: 2023-10-15 15:39:52 -0400 (Sun, 15 Oct 2023) EllapsedTime: 35.0 seconds RetCode: 0 Status: OK