Package: Metab Version: 1.33.0 Command: /home/biocbuild/bbs-3.17-bioc/R/bin/R CMD check --install=check:Metab.install-out.txt --library=/home/biocbuild/bbs-3.17-bioc/R/library --timings Metab_1.33.0.tar.gz StartedAt: 2023-03-15 21:26:57 -0400 (Wed, 15 Mar 2023) EndedAt: 2023-03-15 21:31:12 -0400 (Wed, 15 Mar 2023) EllapsedTime: 255.3 seconds RetCode: 0 Status: OK CheckDir: Metab.Rcheck Warnings: 0