Package: Metab Version: 1.34.0 Command: /home/biocbuild/bbs-3.17-bioc/R/bin/R CMD build --keep-empty-dirs --no-resave-data Metab StartedAt: 2023-10-15 17:21:07 -0400 (Sun, 15 Oct 2023) EndedAt: 2023-10-15 17:21:51 -0400 (Sun, 15 Oct 2023) EllapsedTime: 44.4 seconds RetCode: 1 Status: ERROR PackageFile: None PackageFileSize: NA