Package: MetaVolcanoR Version: 1.14.0 Command: /home/biocbuild/bbs-3.17-bioc/R/bin/R CMD check --install=check:MetaVolcanoR.install-out.txt --library=/home/biocbuild/bbs-3.17-bioc/R/site-library --timings MetaVolcanoR_1.14.0.tar.gz StartedAt: 2023-10-15 22:39:52 -0400 (Sun, 15 Oct 2023) EndedAt: 2023-10-15 22:42:58 -0400 (Sun, 15 Oct 2023) EllapsedTime: 186.3 seconds RetCode: 1 Status: ERROR CheckDir: MetaVolcanoR.Rcheck Warnings: NA