Package: MetaPhOR Version: 1.2.0 Command: chmod a+r MetaPhOR -R && F:\biocbuild\bbs-3.17-bioc\R\bin\R.exe CMD build --keep-empty-dirs --no-resave-data MetaPhOR StartedAt: 2023-10-15 20:17:35 -0400 (Sun, 15 Oct 2023) EndedAt: 2023-10-15 20:34:06 -0400 (Sun, 15 Oct 2023) EllapsedTime: 991.4 seconds RetCode: 0 Status: OK PackageFile: MetaPhOR_1.2.0.tar.gz PackageFileSize: 2.181 MiB