Package: MetaPhOR Version: 1.2.0 Command: rm -rf MetaPhOR.buildbin-libdir && mkdir MetaPhOR.buildbin-libdir && F:\biocbuild\bbs-3.17-bioc\R\bin\R.exe CMD INSTALL --build --library=MetaPhOR.buildbin-libdir MetaPhOR_1.2.0.tar.gz StartedAt: 2023-10-16 09:03:34 -0400 (Mon, 16 Oct 2023) EndedAt: 2023-10-16 09:04:06 -0400 (Mon, 16 Oct 2023) EllapsedTime: 31.9 seconds RetCode: 0 Status: OK PackageFile: MetaPhOR_1.2.0.zip PackageFileSize: 2.208 MiB