Package: MetaPhOR Version: 1.2.0 Command: /home/biocbuild/bbs-3.17-bioc/R/bin/R CMD INSTALL MetaPhOR StartedAt: 2023-10-15 15:40:37 -0400 (Sun, 15 Oct 2023) EndedAt: 2023-10-15 15:41:01 -0400 (Sun, 15 Oct 2023) EllapsedTime: 24.6 seconds RetCode: 0 Status: OK