Package: MetaPhOR Version: 1.2.0 Command: /Library/Frameworks/R.framework/Resources/bin/R CMD build --keep-empty-dirs --no-resave-data MetaPhOR StartedAt: 2023-10-15 19:21:45 -0400 (Sun, 15 Oct 2023) EndedAt: 2023-10-15 20:01:45 -0400 (Sun, 15 Oct 2023) EllapsedTime: 2400.6 seconds RetCode: None Status: TIMEOUT PackageFile: None PackageFileSize: NA