Package: MetaNeighbor Version: 1.20.0 Command: chmod a+r MetaNeighbor -R && F:\biocbuild\bbs-3.17-bioc\R\bin\R.exe CMD build --keep-empty-dirs --no-resave-data MetaNeighbor StartedAt: 2023-10-15 20:17:33 -0400 (Sun, 15 Oct 2023) EndedAt: 2023-10-15 20:18:12 -0400 (Sun, 15 Oct 2023) EllapsedTime: 39.2 seconds RetCode: 0 Status: OK PackageFile: MetaNeighbor_1.20.0.tar.gz PackageFileSize: 3.197 MiB