Package: MetaNeighbor Version: 1.20.0 Command: /Library/Frameworks/R.framework/Resources/bin/R CMD INSTALL MetaNeighbor StartedAt: 2023-10-15 15:16:55 -0400 (Sun, 15 Oct 2023) EndedAt: 2023-10-15 15:17:09 -0400 (Sun, 15 Oct 2023) EllapsedTime: 14.3 seconds RetCode: 0 Status: OK