Package: MetaNeighbor Version: 1.20.0 Command: /Library/Frameworks/R.framework/Resources/bin/R CMD build --keep-empty-dirs --no-resave-data MetaNeighbor StartedAt: 2023-10-15 19:21:43 -0400 (Sun, 15 Oct 2023) EndedAt: 2023-10-15 19:22:56 -0400 (Sun, 15 Oct 2023) EllapsedTime: 73.0 seconds RetCode: 0 Status: OK PackageFile: MetaNeighbor_1.20.0.tar.gz PackageFileSize: 3.195 MiB