git_url: https://git.bioconductor.org/packages/MetaNeighbor git_branch: RELEASE_3_17 git_last_commit: 8221a6f git_last_commit_date: 2023-04-25 10:58:33 -0400 (Tue, 25 Apr 2023) Package: MetaNeighbor Version: 1.20.0 Maintainer: Stephan Fischer MaintainerEmail: fischer at cshl.edu