Package: MetCirc Version: 1.30.0 Command: F:\biocbuild\bbs-3.17-bioc\R\bin\R.exe CMD INSTALL MetCirc StartedAt: 2023-10-15 16:23:11 -0400 (Sun, 15 Oct 2023) EndedAt: 2023-10-15 16:23:30 -0400 (Sun, 15 Oct 2023) EllapsedTime: 19.1 seconds RetCode: 0 Status: OK