Package: MetCirc Version: 1.30.0 Command: rm -rf MetCirc.buildbin-libdir && mkdir MetCirc.buildbin-libdir && F:\biocbuild\bbs-3.17-bioc\R\bin\R.exe CMD INSTALL --build --library=MetCirc.buildbin-libdir MetCirc_1.30.0.tar.gz StartedAt: 2023-10-16 09:03:44 -0400 (Mon, 16 Oct 2023) EndedAt: 2023-10-16 09:04:02 -0400 (Mon, 16 Oct 2023) EllapsedTime: 17.9 seconds RetCode: 0 Status: OK PackageFile: MetCirc_1.30.0.zip PackageFileSize: 1.928 MiB