Package: MetCirc Version: 1.30.0 Command: /Library/Frameworks/R.framework/Resources/bin/R CMD check --install=check:MetCirc.install-out.txt --library=/Library/Frameworks/R.framework/Resources/library --no-vignettes --timings MetCirc_1.30.0.tar.gz StartedAt: 2023-10-16 03:41:03 -0400 (Mon, 16 Oct 2023) EndedAt: 2023-10-16 03:50:09 -0400 (Mon, 16 Oct 2023) EllapsedTime: 545.6 seconds RetCode: 0 Status: OK CheckDir: MetCirc.Rcheck Warnings: 0