Package: MesKit Version: 1.10.0 Command: F:\biocbuild\bbs-3.17-bioc\R\bin\R.exe CMD check --no-multiarch --install=check:MesKit.install-out.txt --library=F:\biocbuild\bbs-3.17-bioc\R\library --no-vignettes --timings MesKit_1.10.0.tar.gz StartedAt: 2023-10-16 03:48:56 -0400 (Mon, 16 Oct 2023) EndedAt: 2023-10-16 03:57:57 -0400 (Mon, 16 Oct 2023) EllapsedTime: 540.6 seconds RetCode: 0 Status: WARNINGS CheckDir: MesKit.Rcheck Warnings: 1