Package: MesKit Version: 1.10.0 Command: chmod a+r MesKit -R && F:\biocbuild\bbs-3.17-bioc\R\bin\R.exe CMD build --keep-empty-dirs --no-resave-data MesKit StartedAt: 2023-10-15 20:15:34 -0400 (Sun, 15 Oct 2023) EndedAt: 2023-10-15 20:17:10 -0400 (Sun, 15 Oct 2023) EllapsedTime: 95.5 seconds RetCode: 0 Status: OK PackageFile: MesKit_1.10.0.tar.gz PackageFileSize: 2.546 MiB