Package: MesKit Version: 1.10.0 Command: /home/biocbuild/bbs-3.17-bioc/R/bin/R CMD check --install=check:MesKit.install-out.txt --library=/home/biocbuild/bbs-3.17-bioc/R/site-library --timings MesKit_1.10.0.tar.gz StartedAt: 2023-10-15 22:36:16 -0400 (Sun, 15 Oct 2023) EndedAt: 2023-10-15 22:46:22 -0400 (Sun, 15 Oct 2023) EllapsedTime: 605.7 seconds RetCode: 0 Status: WARNINGS CheckDir: MesKit.Rcheck Warnings: 1