Package: MesKit Version: 1.10.0 Command: /home/biocbuild/bbs-3.17-bioc/R/bin/R CMD build --keep-empty-dirs --no-resave-data MesKit StartedAt: 2023-10-15 17:21:04 -0400 (Sun, 15 Oct 2023) EndedAt: 2023-10-15 17:22:30 -0400 (Sun, 15 Oct 2023) EllapsedTime: 86.2 seconds RetCode: 0 Status: OK PackageFile: MesKit_1.10.0.tar.gz PackageFileSize: 3.254 MiB