Package: MesKit Version: 1.10.0 Command: /Library/Frameworks/R.framework/Resources/bin/R CMD INSTALL MesKit StartedAt: 2023-10-15 15:29:59 -0400 (Sun, 15 Oct 2023) EndedAt: 2023-10-15 15:31:17 -0400 (Sun, 15 Oct 2023) EllapsedTime: 78.0 seconds RetCode: 0 Status: OK