Package: Mergeomics Version: 1.28.0 Command: F:\biocbuild\bbs-3.17-bioc\R\bin\R.exe CMD check --no-multiarch --install=check:Mergeomics.install-out.txt --library=F:\biocbuild\bbs-3.17-bioc\R\library --no-vignettes --timings Mergeomics_1.28.0.tar.gz StartedAt: 2023-10-16 03:47:40 -0400 (Mon, 16 Oct 2023) EndedAt: 2023-10-16 03:55:03 -0400 (Mon, 16 Oct 2023) EllapsedTime: 443.7 seconds RetCode: 0 Status: OK CheckDir: Mergeomics.Rcheck Warnings: 0