Package: Mergeomics Version: 1.28.0 Command: chmod a+r Mergeomics -R && F:\biocbuild\bbs-3.17-bioc\R\bin\R.exe CMD build --keep-empty-dirs --no-resave-data Mergeomics StartedAt: 2023-10-15 20:15:03 -0400 (Sun, 15 Oct 2023) EndedAt: 2023-10-15 20:20:24 -0400 (Sun, 15 Oct 2023) EllapsedTime: 321.1 seconds RetCode: 0 Status: OK PackageFile: Mergeomics_1.28.0.tar.gz PackageFileSize: 3.117 MiB