Package: Mergeomics Version: 1.28.0 Command: rm -rf Mergeomics.buildbin-libdir && mkdir Mergeomics.buildbin-libdir && F:\biocbuild\bbs-3.17-bioc\R\bin\R.exe CMD INSTALL --build --library=Mergeomics.buildbin-libdir Mergeomics_1.28.0.tar.gz StartedAt: 2023-10-16 09:02:58 -0400 (Mon, 16 Oct 2023) EndedAt: 2023-10-16 09:03:11 -0400 (Mon, 16 Oct 2023) EllapsedTime: 13.1 seconds RetCode: 0 Status: OK PackageFile: Mergeomics_1.28.0.zip PackageFileSize: 3.323 MiB