Package: Melissa Version: 1.16.0 Command: F:\biocbuild\bbs-3.17-bioc\R\bin\R.exe CMD check --no-multiarch --install=check:Melissa.install-out.txt --library=F:\biocbuild\bbs-3.17-bioc\R\library --no-vignettes --timings Melissa_1.16.0.tar.gz StartedAt: 2023-10-16 03:47:14 -0400 (Mon, 16 Oct 2023) EndedAt: 2023-10-16 03:49:44 -0400 (Mon, 16 Oct 2023) EllapsedTime: 149.6 seconds RetCode: 0 Status: OK CheckDir: Melissa.Rcheck Warnings: 0