Package: Melissa Version: 1.16.0 Command: rm -rf Melissa.buildbin-libdir && mkdir Melissa.buildbin-libdir && F:\biocbuild\bbs-3.17-bioc\R\bin\R.exe CMD INSTALL --build --library=Melissa.buildbin-libdir Melissa_1.16.0.tar.gz StartedAt: 2023-10-16 09:02:51 -0400 (Mon, 16 Oct 2023) EndedAt: 2023-10-16 09:03:19 -0400 (Mon, 16 Oct 2023) EllapsedTime: 27.6 seconds RetCode: 0 Status: OK PackageFile: Melissa_1.16.0.zip PackageFileSize: 3.666 MiB